BEGIN:VCALENDAR
VERSION:2.0
PRODID:-//ChamberMaster//Event Calendar 2.0//EN
METHOD:PUBLISH
X-PUBLISHED-TTL:P3D
REFRESH-INTERVAL:P3D
CALSCALE:GREGORIAN
BEGIN:VEVENT
DTSTART;VALUE=DATE:20200703
DTEND;VALUE=DATE:20200704
TRANSP:TRANSPARENT
X-MICROSOFT-CDO-ALLDAYEVENT:TRUE
SUMMARY:First Friday
DESCRIPTION:Late night hours for First Friday. Belles & Beaus will be open until 9 pm.  November will be Cider and Sweaters.  Swing by and enjoy the evening with us.
X-ALT-DESC;FMTTYPE=text/html:Late night hours for First Friday. Belles &amp\; Beaus will be open until 9 pm. &nbsp\;November will be Cider and Sweaters.&nbsp\;<span style="background-color:rgb(255\, 255\, 255)\; color:rgb(51\, 51\, 51)\; font-family:sans-serif\,arial\,verdana\,trebuchet ms\; font-size:13px">&nbsp\;Swing by and enjoy the evening with us.</span>
LOCATION:Belles & Beaus\, 258 Main St.\, Lander
UID:e.1258.25865
SEQUENCE:3
DTSTAMP:20260419T180436Z
URL:http://info.landerchamber.org/events/details/first-friday-07-03-2020-25865
END:VEVENT

END:VCALENDAR
