BEGIN:VCALENDAR
VERSION:2.0
PRODID:-//ChamberMaster//Event Calendar 2.0//EN
METHOD:PUBLISH
X-PUBLISHED-TTL:P3D
REFRESH-INTERVAL:P3D
CALSCALE:GREGORIAN
BEGIN:VEVENT
DTSTART:20230828T010000Z
DTEND:20230828T010000Z
X-MICROSOFT-CDO-ALLDAYEVENT:FALSE
SUMMARY:Evening of Pilgrimage at Trinity Episcopal Church
DESCRIPTION:Have you always wanted to visit the Holy Land? \n\nJoin Trinity Episcopal Church on August 27\, 2023\, at 7:00 PM\, 860 S. 3rd Street\, Lander\, WY for an evening of pilgrimage as we host Mr. Peter Sabella\, a Palestinian Christian leader from the Holy Land\, who will lead us in a conversation on walking the Road of Emmaus in our daily lives.
X-ALT-DESC;FMTTYPE=text/html:<b style="color: rgb(0\, 0\, 0)\; font-family: Calibri\, sans-serif\; font-size: 16px\;">Have you always wanted to visit the Holy Land?&nbsp\;<br />\nJoin Trinity Episcopal Church on August 27\, 2023\, at 7:00 PM\, 860 S. 3<sup>rd&nbsp\;</sup>Street\, Lander\, WY for an evening of pilgrimage as we host Mr. Peter Sabella\, a Palestinian Christian leader from the Holy Land\, who will lead us in a conversation on walking the Road of Emmaus in our daily lives.&nbsp\;</b>
LOCATION:Trinity Episcopal Church 860 S 3rd St.\, Lander
UID:e.1258.30702
SEQUENCE:3
DTSTAMP:20260420T091634Z
URL:http://info.landerchamber.org/events/details/evening-of-pilgrimage-at-trinity-episcopal-church-30702
END:VEVENT

END:VCALENDAR
