BEGIN:VCALENDAR
VERSION:2.0
PRODID:-//ChamberMaster//Event Calendar 2.0//EN
METHOD:PUBLISH
X-PUBLISHED-TTL:P3D
REFRESH-INTERVAL:P3D
CALSCALE:GREGORIAN
BEGIN:VEVENT
DTSTART:20230803T010000Z
DTEND:20230803T010000Z
X-MICROSOFT-CDO-ALLDAYEVENT:FALSE
SUMMARY:Eastern Shoshone Eagle Spirit Singers and Dancers
DESCRIPTION:The Eastern Shoshone Eagle Spirit Singers and Dancers will perform every Wednesday\, June 21-Aug. 9\, 7 pm at the Museum of the American West\, 1445 W. Main St.\, Lander. Watched skilled dancers in colorful regalia perform against the backdrop of the Wind River Mountains. Bring a lawn chair or blanket or sit on the benches.
X-ALT-DESC;FMTTYPE=text/html:The Eastern Shoshone Eagle Spirit Singers and Dancers will perform every Wednesday\, June 21-Aug. 9\, 7 pm at the Museum of the American West\, 1445 W. Main St.\, Lander. Watched skilled dancers in colorful regalia perform against the backdrop of the Wind River Mountains. Bring a lawn chair or blanket or sit on the benches.
LOCATION:Museum of the American West 1445 W. Main St. Lander
UID:e.1258.30637
SEQUENCE:3
DTSTAMP:20260420T091826Z
URL:http://info.landerchamber.org/events/details/eastern-shoshone-eagle-spirit-singers-and-dancers-08-02-2023-30637
END:VEVENT

END:VCALENDAR
