BEGIN:VCALENDAR
VERSION:2.0
PRODID:-//ChamberMaster//Event Calendar 2.0//EN
METHOD:PUBLISH
X-PUBLISHED-TTL:P3D
REFRESH-INTERVAL:P3D
CALSCALE:GREGORIAN
BEGIN:VEVENT
DTSTART:20231216T190000Z
DTEND:20231217T010000Z
X-MICROSOFT-CDO-ALLDAYEVENT:FALSE
SUMMARY:Dandelion Floral Holiday Open House
DESCRIPTION:Let's celebrate the season together!\n\nHoliday Open House\n\nDec 16\, 12-6 pm\n\n- Get your fresh & fragrant greenery \n\n- Garland-making demonstration \n\n- Holiday Centerpieces & Decor\n\n- Candles & gifts\n\n- @blushing_burro libations\n\n- Cookies & Cheer
X-ALT-DESC;FMTTYPE=text/html:<span style="color:rgb(0\, 0\, 0)\; font-family:-apple-system\,blinkmacsystemfont\,segoe ui\,roboto\,helvetica\,arial\,sans-serif\; font-size:14px">Let&rsquo\;s celebrate the season together!<br />\nHoliday Open House</span><br />\n<span style="color:rgb(0\, 0\, 0)\; font-family:-apple-system\,blinkmacsystemfont\,segoe ui\,roboto\,helvetica\,arial\,sans-serif\; font-size:14px">Dec 16\, 12-6 pm</span><br />\n<span style="color:rgb(0\, 0\, 0)\; font-family:-apple-system\,blinkmacsystemfont\,segoe ui\,roboto\,helvetica\,arial\,sans-serif\; font-size:14px">- Get your fresh &amp\; fragrant greenery&nbsp\;</span><br />\n<span style="color:rgb(0\, 0\, 0)\; font-family:-apple-system\,blinkmacsystemfont\,segoe ui\,roboto\,helvetica\,arial\,sans-serif\; font-size:14px">- Garland-making demonstration&nbsp\;</span><br />\n<span style="color:rgb(0\, 0\, 0)\; font-family:-apple-system\,blinkmacsystemfont\,segoe ui\,roboto\,helvetica\,arial\,sans-serif\; font-size:14px">- Holiday Centerpieces &amp\; Decor</span><br />\n<span style="color:rgb(0\, 0\, 0)\; font-family:-apple-system\,blinkmacsystemfont\,segoe ui\,roboto\,helvetica\,arial\,sans-serif\; font-size:14px">- Candles &amp\; gifts</span><br />\n<font color="#000000" face="-apple-system\, blinkmacsystemfont\, segoe ui\, roboto\, helvetica\, arial\, sans-serif"><span style="font-size: 14px\;">-&nbsp\;</span></font><a class="x1i10hfl xjbqb8w x6umtig x1b1mbwd xaqea5y xav7gou x9f619 x1ypdohk xt0psk2 xe8uvvx xdj266r x11i5rnm xat24cr x1mh8g0r xexx8yu x4uap5 x18d9i69 xkhd6sd x16tdsg8 x1hl2dhg xggy1nq x1a2a7pz notranslate _a6hd" font-size:="" href="https://www.instagram.com/blushing_burro/" segoe="" style="caret-color: rgb(0\, 0\, 0)\; color: rgb(51\, 51\, 51)\; cursor: pointer\; text-decoration: none\; outline: currentcolor\; border-width: 0px\; border-style: none\; border-color: currentcolor\; list-style: none\; margin: 0px\; padding: 0px\; box-sizing: border-box\; touch-action: manipulation\; display: inline\; font-family: -apple-system\, BlinkMacSystemFont\, " tabindex="0">@blushing_burro</a><span style="color:rgb(0\, 0\, 0)\; font-family:-apple-system\,blinkmacsystemfont\,segoe ui\,roboto\,helvetica\,arial\,sans-serif\; font-size:14px">&nbsp\;libations</span><br />\n<span style="color:rgb(0\, 0\, 0)\; font-family:-apple-system\,blinkmacsystemfont\,segoe ui\,roboto\,helvetica\,arial\,sans-serif\; font-size:14px">- Cookies &amp\; Cheer&nbsp\;</span>
LOCATION:135 South 6th Street Lander WY
UID:e.1258.30956
SEQUENCE:3
DTSTAMP:20260420T021109Z
URL:http://info.landerchamber.org/events/details/dandelion-floral-holiday-open-house-12-16-2023-30956
END:VEVENT

END:VCALENDAR
