BEGIN:VCALENDAR
VERSION:2.0
PRODID:-//ChamberMaster//Event Calendar 2.0//EN
METHOD:PUBLISH
X-PUBLISHED-TTL:P3D
REFRESH-INTERVAL:P3D
CALSCALE:GREGORIAN
BEGIN:VEVENT
DTSTART;VALUE=DATE:20191202
DTEND;VALUE=DATE:20191203
TRANSP:TRANSPARENT
X-MICROSOFT-CDO-ALLDAYEVENT:TRUE
SUMMARY:CYBER SIGN-UP
DESCRIPTION:On the second day of Christmas\, my true love gave to me!!\n\n\n\nPurchase a Lander Art Center membership and get $10 towards artwork at an Exhibition in 2020. http://www.landerartcenter.com/becomeamember
X-ALT-DESC;FMTTYPE=text/html:On the second day of Christmas\, my true love gave to me!!<br />\n<br />\nPurchase a <strong>Lander Art Center </strong>membership and get $10 towards artwork at an Exhibition in 2020.&nbsp\;<a href="http://www.landerartcenter.com/becomeamember">http://www.landerartcenter.com/becomeamember</a>
LOCATION:Lander Art Center
UID:e.1258.26213
SEQUENCE:3
DTSTAMP:20260420T165508Z
URL:http://info.landerchamber.org/events/details/cyber-sign-up-12-02-2019-26213
END:VEVENT

END:VCALENDAR
