BEGIN:VCALENDAR
VERSION:2.0
PRODID:-//ChamberMaster//Event Calendar 2.0//EN
METHOD:PUBLISH
X-PUBLISHED-TTL:P3D
REFRESH-INTERVAL:P3D
CALSCALE:GREGORIAN
BEGIN:VEVENT
DTSTART:20230801T140000Z
DTEND:20230804T230000Z
X-MICROSOFT-CDO-ALLDAYEVENT:FALSE
SUMMARY:CSG-West Annual Meeting
DESCRIPTION:CSG West Chair\, California Assemblymember Mike Gipson\, and the California Host Committee are thrilled to invite you to the 2023 CSG West Annual Meeting. Join legislative colleagues\, August 1-4\, in Universal City\, California\, to celebrate 76 years of conversation and regional collaboration.\n\n\n\nThe Annual Meeting is the largest gathering of western legislators\, convening over 500 participants yearly. The size and scope of this event create an intimate and unique environment for attendees to:\n\n\n\nEngage and exchange ideas through policy committee discussions on issues such as workforce development\, fiscal affairs\, and social justice\n\nLearn from topic experts by participating in educational forums and leadership skills training opportunities\n\nConnect and build lasting relationships with regional\, national\, and international colleagues\n\nSubscribe to our e-newsletter to stay current on the latest Annual Meeting information.\n\n\n\n"I welcome you and your family to come to experience the diversity of California!"\n\n  CSG West Chair\, California Assemblymember Mike Gipson
X-ALT-DESC;FMTTYPE=text/html:CSG West Chair\, California Assemblymember Mike Gipson\, and the California Host Committee are thrilled to invite you to the 2023 CSG West Annual Meeting. Join legislative colleagues\, August 1-4\, in Universal City\, California\, to celebrate 76 years of conversation and regional collaboration.<br />\n<br />\nThe Annual Meeting is the largest gathering of western legislators\, convening over 500 participants yearly. The size and scope of this event create an intimate and unique environment for attendees to:<br />\n<br />\nEngage and exchange ideas through policy committee discussions on issues such as workforce development\, fiscal affairs\, and social justice<br />\nLearn from topic experts by participating in educational forums and leadership skills training opportunities<br />\nConnect and build lasting relationships with regional\, national\, and international colleagues<br />\nSubscribe to our e-newsletter to stay current on the latest Annual Meeting information.<br />\n<br />\n&ldquo\;I welcome you and your family to come to experience the diversity of California!&rdquo\;<br />\n&ndash\; CSG West Chair\, California Assemblymember Mike Gipson
LOCATION:Universal City\, CA
UID:e.1258.30672
SEQUENCE:3
DTSTAMP:20260420T091512Z
URL:http://info.landerchamber.org/events/details/csg-west-annual-meeting-30672
END:VEVENT

END:VCALENDAR
