BEGIN:VCALENDAR
VERSION:2.0
PRODID:-//ChamberMaster//Event Calendar 2.0//EN
METHOD:PUBLISH
X-PUBLISHED-TTL:P3D
REFRESH-INTERVAL:P3D
CALSCALE:GREGORIAN
BEGIN:VEVENT
DTSTART:20190830T060000Z
DTEND:20190902T060000Z
X-MICROSOFT-CDO-ALLDAYEVENT:FALSE
SUMMARY:Closed Labor day weekend
DESCRIPTION:Take advantage of Labor Day weekend because we sure will be\, My Store Belles and Beaus will be closed Saturday the 30th to Monday September 2nd. We will reopen September\,her 3rd at 10 am to kick off a fun week!
X-ALT-DESC;FMTTYPE=text/html:Take advantage of Labor Day weekend because we sure will be\, My Store Belles and Beaus will be closed Saturday the 30th to Monday September 2nd. We will reopen September\,her 3rd at 10 am to kick off a fun week!&nbsp\;
LOCATION:
UID:e.1258.24599
SEQUENCE:3
DTSTAMP:20260425T004942Z
URL:http://info.landerchamber.org/events/details/closed-labor-day-weekend-24599
END:VEVENT

END:VCALENDAR
