BEGIN:VCALENDAR
VERSION:2.0
PRODID:-//ChamberMaster//Event Calendar 2.0//EN
METHOD:PUBLISH
X-PUBLISHED-TTL:P3D
REFRESH-INTERVAL:P3D
CALSCALE:GREGORIAN
BEGIN:VEVENT
DTSTART:20240306T220000Z
DTEND:20240307T010000Z
X-MICROSOFT-CDO-ALLDAYEVENT:FALSE
SUMMARY:City of Lander Project Information Open House
DESCRIPTION:Project Information Open House - Learn about current and upcoming projects:\n\nFlood Mitigation\n\n1% Street Projects and Infrastructure\n\nTable Mountain Living Community \n\nZoning Code Updates \n\n2024 Master Plan \n\nLIFT
X-ALT-DESC;FMTTYPE=text/html:Project Information Open House - Learn about current and upcoming projects:<br />\nFlood Mitigation<br />\n1% Street Projects and Infrastructure<br />\nTable Mountain Living Community&nbsp\;<br />\nZoning Code Updates&nbsp\;<br />\n2024 Master Plan&nbsp\;<br />\nLIFT
LOCATION:Lander Community and Convention Center
UID:e.1258.31085
SEQUENCE:3
DTSTAMP:20260420T062415Z
URL:http://info.landerchamber.org/events/details/city-of-lander-project-information-open-house-31085
END:VEVENT

END:VCALENDAR
