BEGIN:VCALENDAR
VERSION:2.0
PRODID:-//ChamberMaster//Event Calendar 2.0//EN
METHOD:PUBLISH
X-PUBLISHED-TTL:P3D
REFRESH-INTERVAL:P3D
CALSCALE:GREGORIAN
BEGIN:VEVENT
DTSTART:20230726T000000Z
DTEND:20230726T020000Z
X-MICROSOFT-CDO-ALLDAYEVENT:FALSE
SUMMARY:City Council Regular Meeting and Work Session
DESCRIPTION:REGULAR MEETING\n\nJoin Zoom Meeting\n\nhttps://us06web.zoom.us/j/81157087616?pwd=cVdhaFBFcGtvUWtUTkZGeENCTjIxZz09\n\nMeeting ID: 811 5708 7616\n\nPasscode: 026541\n\n\n\n1.CALL TO ORDER\n\n\n\nA.Pledge of Allegiance\n\n\n\nB.Roll Call\n\n\n\n2.APPROVAL OF AGENDA\n\n\n\n3.COMMUNICATION FROM THE FLOOR\n\nPlease approach the microphone and state your full name for the record. This meeting and comments are electronically recorded. All comments will be limited to three minutes.\n\n\n\nA.Public Comment\n\n\n\n4.NEW BUSINESS (ACTION ITEMS)\n\n\n\nA.Approve Resolution 1301 Exempting The Pioneer Museum Property from the Open Container Provision of City Ordinance 2-2-12\n\n\n\n5.ADJOURNMENT\n\nWORK SESSION\n\nJoin Zoom Meeting\n\nhttps://us06web.zoom.us/j/81157087616?pwd=cVdhaFBFcGtvUWtUTkZGeENCTjIxZz09\n\nMeeting ID: 811 5708 7616\n\nPasscode: 026541\n\n\n\n1.CALL TO ORDER\n\n\n\nA.Pledge of Allegiance\n\n\n\nB.Roll Call\n\n\n\n2.MAYOR AND COUNCIL UPDATES\n\n\n\n3.STAFF REPORTS\n\n\n\n4.NEW BUSINESS (ACTION ITEMS)\n\n\n\nA.PRESENTATION BY AMI VINCENT LOR UPDATE\n\n\n\nB.City Park Camping Fee/Donation Discussion\n\n\n\nC.Discussion concerning proposed Resolution 1297 Authorizing  SUBMISSION OF AN APPLICATION TO THE STATE LOAN AND INVESTMENT BOARD FOR A LOAN THROUGH THE STATE REVOLVING FUND ON BEHALF OF THE GOVERNING BODY FOR THE City of Lander\n\n\n\nD.Discussion concerning proposed Resolution 1298 Amending Salary Structure\n\n\n\n5.ADJOURNMENT\n\n\n\nUpcoming Council Meetings:\n\n\n\nSpecial Meetings:\n\n\n\nRegular Meetings:\n\n\n\nWork Sessions:\n\n\n\nAll meetings are subject to cancellation or change.\n\n\n\nCITY OF LANDER MISSION STATEMENT\n\nTo provide a safe\, stable\, and responsive environment that promotes and supports a traditional yet progressive community resulting in a high quality of life.\n\n\n\nVISION\n\nPreserving the past\, while embracing the future.\n\n\n\nThe City of Lander is an equal opportunity employer and does not discriminate.  Qualified applicants are considered for positions without regard to race\, religion\, military status\, sex\, age\, national origin\, disability\, dexual orientation\, or other characteristics protected by law.
X-ALT-DESC;FMTTYPE=text/html:<p><strong>REGULAR MEETING</strong></p>\n\n<p>Join Zoom Meeting<br />\nhttps://us06web.zoom.us/j/81157087616?pwd=cVdhaFBFcGtvUWtUTkZGeENCTjIxZz09<br />\nMeeting ID: 811 5708 7616<br />\nPasscode: 026541<br />\n<br />\n1.CALL TO ORDER<br />\n<br />\nA.Pledge of Allegiance<br />\n<br />\nB.Roll Call<br />\n<br />\n2.APPROVAL OF AGENDA<br />\n<br />\n3.COMMUNICATION FROM THE FLOOR<br />\nPlease approach the microphone and state your full name for the record. This meeting and comments are electronically recorded. All comments will be limited to three minutes.<br />\n<br />\nA.Public Comment<br />\n<br />\n4.NEW BUSINESS (ACTION ITEMS)<br />\n<br />\nA.Approve Resolution 1301 Exempting The Pioneer Museum Property from the Open Container Provision of City Ordinance 2-2-12<br />\n<br />\n5.ADJOURNMENT</p>\n\n<p><strong>WORK SESSION</strong></p>\n\n<p>Join Zoom Meeting<br />\nhttps://us06web.zoom.us/j/81157087616?pwd=cVdhaFBFcGtvUWtUTkZGeENCTjIxZz09<br />\nMeeting ID: 811 5708 7616<br />\nPasscode: 026541<br />\n<br />\n1.CALL TO ORDER<br />\n<br />\nA.Pledge of Allegiance<br />\n<br />\nB.Roll Call<br />\n<br />\n2.MAYOR AND COUNCIL UPDATES<br />\n<br />\n3.STAFF REPORTS<br />\n<br />\n4.NEW BUSINESS (ACTION ITEMS)<br />\n<br />\nA.PRESENTATION BY AMI VINCENT LOR UPDATE<br />\n<br />\nB.City Park Camping Fee/Donation Discussion<br />\n<br />\nC.Discussion concerning proposed Resolution 1297 Authorizing&nbsp\; SUBMISSION OF AN APPLICATION TO THE STATE LOAN AND INVESTMENT BOARD FOR A LOAN THROUGH THE STATE REVOLVING FUND ON BEHALF OF THE GOVERNING BODY FOR THE City of Lander<br />\n<br />\nD.Discussion concerning proposed Resolution 1298 Amending Salary Structure<br />\n<br />\n5.ADJOURNMENT<br />\n<br />\nUpcoming Council Meetings:<br />\n<br />\nSpecial Meetings:<br />\n<br />\nRegular Meetings:<br />\n<br />\nWork Sessions:<br />\n<br />\nAll meetings are subject to cancellation or change.<br />\n<br />\nCITY OF LANDER MISSION STATEMENT<br />\nTo provide a safe\, stable\, and responsive environment that promotes and supports a traditional yet progressive community resulting in a high quality of life.<br />\n<br />\nVISION<br />\nPreserving the past\, while embracing the future.<br />\n<br />\nThe City of Lander is an equal opportunity employer and does not discriminate.&nbsp\; Qualified applicants are considered for positions without regard to race\, religion\, military status\, sex\, age\, national origin\, disability\, dexual orientation\, or other characteristics protected by law.</p>\n
LOCATION:City Council Chambers 240 Lincoln Street
UID:e.1258.30689
SEQUENCE:3
DTSTAMP:20260420T103243Z
URL:http://info.landerchamber.org/events/details/city-council-regular-meeting-and-work-session-30689
END:VEVENT

END:VCALENDAR
