BEGIN:VCALENDAR
VERSION:2.0
PRODID:-//ChamberMaster//Event Calendar 2.0//EN
METHOD:PUBLISH
X-PUBLISHED-TTL:P3D
REFRESH-INTERVAL:P3D
CALSCALE:GREGORIAN
BEGIN:VEVENT
DTSTART:20230913T000000Z
DTEND:20230913T020000Z
X-MICROSOFT-CDO-ALLDAYEVENT:FALSE
SUMMARY:City Council Regular Meeting
DESCRIPTION:Join Zoom Meeting\n\nhttps://us06web.zoom.us/j/88545108828?pwd=enM4YVl2aTFJWi92bU1rOFdWcnplZz09\n\nMeeting ID: 885 4510 8828\n\nPasscode: 263929\n\n\n\n1. CALL TO ORDER\n\nA. Pledge of Allegiance\n\nB. Roll Call\n\n\n\n2. APPROVAL OF AGENDA\n\n\n\n3. PUBLIC HEARING\n\nA. Open Hearing: Community Development Block Grant (CDBG) application to extend Jefferson\n\nStreet into Popo Agie River Park\n\nB. Introduce and Read\n\nC. Public Comment\n\nD. Close Hearing\n\n\n\n4. PUBLIC HEARING\n\nA. Open Hearing: Ordinance 2023-3 Amending Title 12\, Section 12-3-3\, Parks and Recreation to Include City Park Rules\n\nB. Introduce and Read\n\nC. Public Comment\n\nD. Close Hearing\n\n\n\n5. PUBLIC HEARING\n\nA. Open Hearing: The City of Lander Budget Amendment FY 22 23\n\nB. Introduce and Read\n\nC. Public Comment\n\nD. Close Hearing\n\n\n\n6. COMMUNICATION FROM THE FLOOR\n\nPlease approach the microphone and state your full name for the record. This meeting and comments are electronically recorded. All comments will be limited to three minutes.\n\nA. Public Comment\n\n\n\n7. MAYOR AND COUNCIL UPDATES\n\n\n\n8. STAFF REPORTS\n\n\n\n9. CONSENT AGENDA\n\nItems listed on the Consent Agenda are considered to be routine and will be enacted by one motion in the form listed below. There will be no separate discussion of these items unless a Councilor requests\, in which case the item will be removed from the Consent Agenda and will be considered on the\n\nRegular Agenda.\n\nA. Approve Amended July 11\, 2023\, Regular City Council Meeting Minutes\n\nB. Approve August 8\, 2023\, Regular City Council Meeting Minutes\n\nC. Approve August 22\, 2023\, City Council Work Session Minutes\n\nD. Approve Bills and Claims\n\n\n\n10. NEW BUSINESS (ACTION ITEMS)\n\nA. Approve Resolution 1305 A Resolution to Amend the 2022-2023 FY Budget\n\nB. Approve Resolution 1306 Exempting The Fremont County Pioneer Museum Property from the Open Container Provisions of City Ordinance 2-2-12 until November 1\, 2024\n\nC. Approve Resolution 1307 Application to CDBG Community Development Block Grant for Access to Popo Agie River Park\n\nD. Approve Resolution 1308 Exempting the Pioneer Museum Property From the Open Container Provisions of City Ordiance 2-2-212\n\nE. Approve Resolution 1309 Authorizing Application to the Wyoming Water Development Commission for Funding of the Tanks and Pump Station Project\n\nF. Approve Resolution 1310 Authorizing an Application to the Wyoming Water Development Commission for Funding of the Level III Well Construction\n\nG. Adopt the 2023 Water Master Plan\n\nH. Adopt the Hillcrest Strategic Plan Joint Study with Fremont County\n\nI. Release and accept the Maven Headquarters project as complete and  authorize Mayor to sign Hien Bond's Certificate of Final Completion\n\nJ. Approve and authorize the Mayor to sign the Juvenile Justice Services of Fremont County Agreement for FY 2023 2024\n\nK. Ordinance 2023-3 First Reading Amending Title 12\, Section 12-3-3 Park and Recreation to Include City Park Rules\n\n\n\n11. ADJOURNMENT\n\nUpcoming Council Meetings:\n\nRegular Meetings:\n\n6:00 PM Tuesday\, September 26\, 2023\, City Council Chambers\n\n6:00 PM Tuesday\, October 10\, 2023\, City Council Chambers\n\nWork Sessions:\n\nImmediately following the Regular Meeting Tuesday\, September 26\, 2023\, City Council Chambers\n\n6:00 PM Tuesday\, October 24\, 2023\, City Council Chambers\n\nAll meetings are subject to cancellation or change.
X-ALT-DESC;FMTTYPE=text/html:<p>Join Zoom Meeting<br />\nhttps://us06web.zoom.us/j/88545108828?pwd=enM4YVl2aTFJWi92bU1rOFdWcnplZz09<br />\nMeeting ID: 885 4510 8828<br />\nPasscode: 263929<br />\n<br />\n1. CALL TO ORDER<br />\nA. Pledge of Allegiance<br />\nB. Roll Call<br />\n<br />\n2. APPROVAL OF AGENDA<br />\n<br />\n3. PUBLIC HEARING<br />\nA. Open Hearing: Community Development Block Grant (CDBG) application to extend Jefferson<br />\nStreet into Popo Agie River Park<br />\nB. Introduce and Read<br />\nC. Public Comment<br />\nD. Close Hearing<br />\n<br />\n4. PUBLIC HEARING<br />\nA. Open Hearing: Ordinance 2023-3 Amending Title 12\, Section 12-3-3\, Parks and Recreation to&nbsp\;Include City Park Rules<br />\nB. Introduce and Read<br />\nC. Public Comment<br />\nD. Close Hearing<br />\n<br />\n5. PUBLIC HEARING<br />\nA. Open Hearing: The City of Lander Budget Amendment FY 22 23<br />\nB. Introduce and Read<br />\nC. Public Comment<br />\nD. Close Hearing<br />\n<br />\n6. COMMUNICATION FROM THE FLOOR<br />\nPlease approach the microphone and state your full name for the record. This meeting and comments are electronically&nbsp\;recorded. All comments will be limited to three minutes.<br />\nA. Public Comment<br />\n<br />\n7. MAYOR AND COUNCIL UPDATES<br />\n<br />\n8. STAFF REPORTS<br />\n<br />\n9. CONSENT AGENDA<br />\nItems listed on the Consent Agenda are considered to be routine and will be enacted by one motion in the form listed&nbsp\;below. There will be no separate discussion of these items unless a Councilor requests\, in which case the item will be removed from the Consent Agenda and will be considered on the</p>\n\n<p>Regular Agenda.<br />\nA. Approve Amended July 11\, 2023\, Regular City Council Meeting Minutes<br />\nB. Approve August 8\, 2023\, Regular City Council Meeting Minutes<br />\nC. Approve August 22\, 2023\, City Council Work Session Minutes<br />\nD. Approve Bills and Claims<br />\n<br />\n10. NEW BUSINESS (ACTION ITEMS)<br />\nA. Approve Resolution 1305 A Resolution to Amend the 2022-2023 FY Budget<br />\nB. Approve Resolution 1306 Exempting The Fremont County Pioneer Museum Property from the&nbsp\;Open Container Provisions of City Ordinance 2-2-12 until November 1\, 2024<br />\nC. Approve Resolution 1307 Application to CDBG Community Development Block Grant for Access&nbsp\;to Popo Agie River Park<br />\nD. Approve Resolution 1308 Exempting the Pioneer Museum Property From the Open Container&nbsp\;Provisions of City Ordiance 2-2-212<br />\nE. Approve Resolution 1309 Authorizing Application to the Wyoming Water Development&nbsp\;Commission for Funding of the Tanks and Pump Station Project<br />\nF. Approve Resolution 1310 Authorizing an Application to the Wyoming Water Development&nbsp\;Commission for Funding of the Level III Well Construction<br />\nG. Adopt the 2023 Water Master Plan<br />\nH. Adopt the Hillcrest Strategic Plan Joint Study with Fremont County<br />\nI. Release and accept the Maven Headquarters project as complete and&nbsp\; authorize Mayor to sign Hien Bond&#39\;s Certificate of Final Completion<br />\nJ. Approve and authorize the Mayor to sign the Juvenile Justice Services of Fremont County&nbsp\;Agreement for FY 2023 2024<br />\nK. Ordinance 2023-3 First Reading Amending Title 12\, Section 12-3-3 Park and Recreation to&nbsp\;Include City Park Rules<br />\n<br />\n11. ADJOURNMENT</p>\n\n<p>Upcoming Council Meetings:<br />\nRegular Meetings:<br />\n6:00 PM Tuesday\, September 26\, 2023\, City Council Chambers<br />\n6:00 PM Tuesday\, October 10\, 2023\, City Council Chambers<br />\nWork Sessions:<br />\nImmediately following the Regular Meeting Tuesday\, September 26\, 2023\, City Council Chambers<br />\n6:00 PM Tuesday\, October 24\, 2023\, City Council Chambers<br />\nAll meetings are subject to cancellation or change.</p>\n
LOCATION:City Council Chambers 240 Lincoln Street
UID:e.1258.30759
SEQUENCE:3
DTSTAMP:20260420T080036Z
URL:http://info.landerchamber.org/events/details/city-council-regular-meeting-30759
END:VEVENT

END:VCALENDAR
