BEGIN:VCALENDAR
VERSION:2.0
PRODID:-//ChamberMaster//Event Calendar 2.0//EN
METHOD:PUBLISH
X-PUBLISHED-TTL:P3D
REFRESH-INTERVAL:P3D
CALSCALE:GREGORIAN
BEGIN:VEVENT
DTSTART;VALUE=DATE:20191213
DTEND;VALUE=DATE:20191214
TRANSP:TRANSPARENT
X-MICROSOFT-CDO-ALLDAYEVENT:TRUE
SUMMARY:Central Bank & Trust Holiday Open House
DESCRIPTION:Central Bank and Trust invites you to their Holiday Open House from 10 a.m.-3 p.m. on Friday\, December 13\, 285 Main St.\, Lander
X-ALT-DESC;FMTTYPE=text/html:&nbsp\;Central Bank and Trust invites you to their Holiday Open House from 10 a.m.-3 p.m. on Friday\, December 13\, 285 Main St.\, Lander
LOCATION:285 Main St.\, Lander
UID:e.1258.1207
SEQUENCE:3
DTSTAMP:20260421T101540Z
URL:http://info.landerchamber.org/events/details/central-bank-trust-holiday-open-house-11-30-2012-1207
END:VEVENT

END:VCALENDAR
