BEGIN:VCALENDAR
VERSION:2.0
PRODID:-//ChamberMaster//Event Calendar 2.0//EN
METHOD:PUBLISH
X-PUBLISHED-TTL:P3D
REFRESH-INTERVAL:P3D
CALSCALE:GREGORIAN
BEGIN:VEVENT
DTSTART;VALUE=DATE:20220506
DTEND;VALUE=DATE:20220507
TRANSP:TRANSPARENT
X-MICROSOFT-CDO-ALLDAYEVENT:TRUE
SUMMARY:Carnegie Book Nook at the Lander Library
DESCRIPTION:Carnegie Book Nook at the Lander Library\n\n\nTuesdays  1pm - 5pm\n\nFridays   12pm - 4pm
X-ALT-DESC;FMTTYPE=text/html:<div style="color: rgb(34\, 34\, 34)\; font-family: Georgia\, serif\; font-size: 18.6667px\;"><span style="color: rgb(34\, 34\, 34)\; font-family: Georgia\, serif\; font-size: large\;">Carnegie Book Nook at the Lander Library</span></div>\n\n<div style="color: rgb(34\, 34\, 34)\; font-family: Georgia\, serif\; font-size: 18.6667px\;">\n<div style="color: rgb(34\, 34\, 34)\; font-family: Georgia\, serif\; font-size: 18.6667px\;"><font size="4">Tuesdays&nbsp\; 1pm - 5pm</font></div>\n\n<div style="color: rgb(34\, 34\, 34)\; font-family: Georgia\, serif\; font-size: 18.6667px\;"><font size="4">Fridays&nbsp\; &nbsp\;12pm - 4pm&nbsp\;</font><br>\n<br>\n&nbsp\;</div>\n</div>\n
LOCATION:Lander Library Book Nook
UID:e.1258.28504
SEQUENCE:3
DTSTAMP:20260423T041755Z
URL:http://info.landerchamber.org/events/details/carnegie-book-nook-at-the-lander-library-05-06-2022-28504
END:VEVENT

END:VCALENDAR
