BEGIN:VCALENDAR
VERSION:2.0
PRODID:-//ChamberMaster//Event Calendar 2.0//EN
METHOD:PUBLISH
X-PUBLISHED-TTL:P3D
REFRESH-INTERVAL:P3D
CALSCALE:GREGORIAN
BEGIN:VEVENT
DTSTART:20200220T180000Z
DTEND:20200220T193000Z
X-MICROSOFT-CDO-ALLDAYEVENT:FALSE
SUMMARY:Caregiver Support Group: Soup & Support
DESCRIPTION:Join Fremont In-Home Services and Frontier Home Health & Hospice for a caregiver support group.  This support group meets in Lander the third Thursday of every month.  Meet with fellow caregivers to discuss resources and services available to caregivers in our community.  Lunch is provided.
X-ALT-DESC;FMTTYPE=text/html:Join Fremont In-Home Services and Frontier Home Health &amp\; Hospice for a caregiver support group.&nbsp\; This support group meets in Lander the third Thursday of every month.&nbsp\; Meet with fellow caregivers to discuss resources and services available to caregivers in our community.&nbsp\; Lunch is provided.&nbsp\;
LOCATION:Frontier Home Health & Hospice 230 N. 1st St Lander\, WY 82520
UID:e.1258.25737
SEQUENCE:3
DTSTAMP:20260422T104906Z
URL:http://info.landerchamber.org/events/details/caregiver-support-group-soup-support-02-20-2020-25737
END:VEVENT

END:VCALENDAR
