BEGIN:VCALENDAR
VERSION:2.0
PRODID:-//ChamberMaster//Event Calendar 2.0//EN
METHOD:PUBLISH
X-PUBLISHED-TTL:P3D
REFRESH-INTERVAL:P3D
CALSCALE:GREGORIAN
BEGIN:VEVENT
DTSTART;VALUE=DATE:20240215
DTEND;VALUE=DATE:20240216
TRANSP:TRANSPARENT
X-MICROSOFT-CDO-ALLDAYEVENT:TRUE
SUMMARY:Camo At The Capitol
DESCRIPTION:Camo at the Capitol provides an opportunity for hunters\, anglers\, and other conservationists to exercise their public voice. Attendees will learn the ins and out's of the legislative process\, including bill creation\, tracking\, and ultimately its passing (or not passing) into law. Those who attend will not only learn the skill necessary for communicating with lawmakers but will also have the opportunity to speak directly with elected officials as they lobby for specific bills affecting the hunting and angling community.\n\n\n\nBringing hunters and anglers together and building an effective and informed advocacy voice is the mission for the Camo at the Capitol program. The program includes advocacy training and legislative action days at the Wyoming State Capitol\, all aimed at cultivating a strong conservation voice for sportsmen and women\, culminating in lasting policy changes that benefit wildlife and our sporting heritage.
X-ALT-DESC;FMTTYPE=text/html:<span style="color:rgb(43\, 38\, 36)\; font-family:clarendon-urw\,clarendon-urw\,georgia\,serif\; font-size:16px">Camo at the Capitol provides an opportunity for hunters\, anglers\, and other conservationists to exercise their public voice. Attendees will learn the ins and out&rsquo\;s of the legislative process\, including bill creation\, tracking\, and ultimately its passing (or not passing) into law. Those who attend will not only learn the skill necessary for communicating with lawmakers but will also have the opportunity to speak directly with elected officials as they lobby for specific bills affecting the hunting and angling community.<br />\n<br />\nBringing hunters and anglers together and building an effective and informed advocacy voice is the mission for the Camo at the Capitol program. The program includes advocacy training and legislative action days at the Wyoming State Capitol\, all aimed at cultivating a strong conservation voice for sportsmen and women\, culminating in lasting policy changes that benefit wildlife and our sporting heritage.</span>
LOCATION:Wyoming State Capitol Building (See website for specific location details)
UID:e.1258.31009
SEQUENCE:3
DTSTAMP:20260419T233932Z
URL:http://info.landerchamber.org/events/details/camo-at-the-capitol-31009
END:VEVENT

END:VCALENDAR
