BEGIN:VCALENDAR
VERSION:2.0
PRODID:-//ChamberMaster//Event Calendar 2.0//EN
METHOD:PUBLISH
X-PUBLISHED-TTL:P3D
REFRESH-INTERVAL:P3D
CALSCALE:GREGORIAN
BEGIN:VEVENT
DTSTART:20231222T003000Z
DTEND:20231222T020000Z
X-MICROSOFT-CDO-ALLDAYEVENT:FALSE
SUMMARY:Business After Hours hosted by Westward Heights Care Center
DESCRIPTION:You are invited to join the board\, staff\, residents\, friends new and old\, and community members at Westward Heights Care Center for an evening of connecting over refreshments and hors d'oeuvres.        \n\n\n\nWestward Heights Care Center is a locally owned\, non-profit facility directed by a volunteer board of local citizens. The management services of Vetter Senior Living oversee the day-to-day operations of the facility\, in matters pertaining to long-term care.\n\n\n\nWestward Heights is proud to serve the community of Lander\, Wyoming\, nestled against the Wind River Mountains on the banks of the Popo Agie River. Our community of 6\,500 people serves as the gateway to Yellowstone National Park and the Grand Tetons.\n\n\n\nYou can find us on the south side of town just off Highway 287\, right across the highway from the post office and the Best Western Hotel.\n\n\n\nOur facility accommodates up to 60 individuals for long-term care\, after-hospital rehabilitation or short-term respite care. We also provide outpatient therapy services for those needing physical therapy\, occupational therapy or speech therapy.
X-ALT-DESC;FMTTYPE=text/html:<div class="xdj266r x11i5rnm xat24cr x1mh8g0r x1vvkbs"><span class="x193iq5w xeuugli x13faqbe x1vvkbs x1xmvt09 x1lliihq x1s928wv xhkezso x1gmr53x x1cpjm7i x1fgarty x1943h6x xudqn12 x3x7a5m x6prxxf xvq8zen xo1l8bm xzsf02u" dir="auto">You are invited to join the board\, staff\, residents\,&nbsp\;friends new and old\, and community members at Westward Heights Care Center for an evening of connecting over refreshments and hors d&rsquo\;oeuvres.&nbsp\;</span>&#127867\; &#127863\; &#129347\; &#127865\;<br />\n<br />\nWestward Heights Care Center is a locally owned\, non-profit facility directed by a volunteer board of local citizens. The management services of Vetter Senior Living oversee the day-to-day operations of the facility\, in matters pertaining to long-term care.<br />\n<br />\nWestward Heights is proud to serve the community of Lander\, Wyoming\, nestled against the Wind River Mountains on the banks of the Popo Agie River. Our community of 6\,500 people serves as the gateway to Yellowstone National Park and the Grand Tetons.<br />\n<br />\nYou can find us on the south side of town just off Highway 287\, right across the highway from the post office and the Best Western Hotel.<br />\n<br />\nOur facility accommodates up to 60 individuals for long-term care\, after-hospital rehabilitation or short-term respite care. We also provide outpatient therapy services for those needing physical therapy\, occupational therapy or speech therapy.</div>\n
LOCATION:
UID:e.1258.30924
SEQUENCE:3
DTSTAMP:20260420T021014Z
URL:http://info.landerchamber.org/events/details/business-after-hours-hosted-by-westward-heights-care-center-30924
END:VEVENT

END:VCALENDAR
