BEGIN:VCALENDAR
VERSION:2.0
PRODID:-//ChamberMaster//Event Calendar 2.0//EN
METHOD:PUBLISH
X-PUBLISHED-TTL:P3D
REFRESH-INTERVAL:P3D
CALSCALE:GREGORIAN
BEGIN:VEVENT
DTSTART:20240321T233000Z
DTEND:20240322T010000Z
X-MICROSOFT-CDO-ALLDAYEVENT:FALSE
SUMMARY:Business After Hours hosted by Maven Outdoor Equipment Company
DESCRIPTION:Get connected and stay connected in the Lander business community! You are invited to join friends new and old or Business After Hours at Maven Outdoor Equipment Company for an evening of connecting over refreshments and hors d'oeuvres.        \n\n\n\n1042 Pronghorn Drive   Free and Open to the Public\n\n\n\nAbout Maven\n\n\n\nHow's the hunting on Madison Avenue? Yeah\, we don't know either. And so long as there's plenty of rock and ice\, mud and single-track\, elk and elbowroom out here in fly-over country\, we don't care to find out. We are Maven   a company focused on the design and creation of innovative products for\, and by\, the modern outdoorsman.\n\n\n\nYou don't find yourself twelve miles in\, four pitches up\, fifty feet into your backing\, or seventy yards from the buck of a lifetime by accident. Likewise\, a company doesn't sprout from the rocky Wyoming soil without first making some deliberate\, unconventional choices. At Maven\, we refuse to compromise our mountain town roots to follow the well-worn path to a dollar. We choose instead to make game-changing gear and use it in the places and pursuits that inspire us everyday. We all know from years in the backcountry that quality\, adaptability and relationships are paramount to any successful outing. So Maven focuses on the fundamentals   clean\, simple designs with the very best modern materials and technologies   to create uncompromising gear.
X-ALT-DESC;FMTTYPE=text/html:<div class="xdj266r x11i5rnm xat24cr x1mh8g0r x1vvkbs">Get connected and stay connected in the Lander business community!&nbsp\;<span class="x193iq5w xeuugli x13faqbe x1vvkbs x1xmvt09 x1lliihq x1s928wv xhkezso x1gmr53x x1cpjm7i x1fgarty x1943h6x xudqn12 x3x7a5m x6prxxf xvq8zen xo1l8bm xzsf02u" dir="auto">You are invited to join friends new and old or Business After Hours at Maven Outdoor Equipment Company&nbsp\;for an evening of connecting over refreshments and hors d&rsquo\;oeuvres.&nbsp\;</span>&#127867\; &#127863\; &#129347\; &#127865\;<br />\n<br />\n1042 Pronghorn Drive&nbsp\;&ndash\; Free&nbsp\;and Open to the Public<br />\n<br />\n<strong>About Maven</strong><br />\n<br />\nHow&rsquo\;s the hunting on Madison Avenue? Yeah\, we don&rsquo\;t know either. And so long as there&rsquo\;s plenty of rock and ice\, mud and single-track\, elk and elbowroom out here in fly-over country\, we don&rsquo\;t care to find out. We are Maven &ndash\; a company focused on the design and creation of innovative products for\, and by\, the modern outdoorsman.<br />\n<br />\nYou don&rsquo\;t find yourself twelve miles in\, four pitches up\, fifty feet into your backing\, or seventy yards from the buck of a lifetime by accident. Likewise\, a company doesn&rsquo\;t sprout from the rocky Wyoming soil without first making some deliberate\, unconventional choices. At Maven\, we refuse to compromise our mountain town roots to follow the well-worn path to a dollar. We choose instead to make game-changing gear and use it in the places and pursuits that inspire us&hellip\;everyday. We all know from years in the backcountry that quality\, adaptability and relationships are paramount to any successful outing. So Maven focuses on the fundamentals &ndash\; clean\, simple designs with the very best modern materials and technologies &ndash\; to create uncompromising gear.</div>\n
LOCATION:Maven Headquarters
UID:e.1258.30957
SEQUENCE:3
DTSTAMP:20260419T222218Z
URL:http://info.landerchamber.org/events/details/business-after-hours-hosted-by-maven-outdoor-equipment-company-30957
END:VEVENT

END:VCALENDAR
