BEGIN:VCALENDAR
VERSION:2.0
PRODID:-//ChamberMaster//Event Calendar 2.0//EN
METHOD:PUBLISH
X-PUBLISHED-TTL:P3D
REFRESH-INTERVAL:P3D
CALSCALE:GREGORIAN
BEGIN:VEVENT
DTSTART:20240418T233000Z
DTEND:20240419T010000Z
X-MICROSOFT-CDO-ALLDAYEVENT:FALSE
SUMMARY:Business After Hours hosted by Fremont Orthopaedics
DESCRIPTION:You are invited to join the owners and staff of Fremont Orthopaedics at their new Western Wyoming Surgery Center) for an evening of connecting over refreshments and hors d'oeuvres.        \n\n\n\n535 E. Main   Open to the Public\n\n\n\nFremont Orthopaedics staff and physicians are important partners in the overall health of our communities. Our practice regularly supports local non-profit organizations and fitness events. In addition to financial sponsorship of local athletes and teams\, Fremont Orthopaedics provides medical support to the school districts and Central Wyoming College athletes.\n\nOur providers have broad training and experience in the treatment of patients of all ages who experience new\, acute injuries and chronic\, painful conditions. Our surgeons have also practiced in large university-based medical facilities and trauma centers. Patients are offered the most current and evidence-based treatment options\, customized to their lifestyle. Additionally\, each of our surgeons have advanced surgical fellowship training\, offering patients specialized expertise in certain injuries and areas of the body.\n\nOur team is passionate about providing excellent\, personal care to help patients of all ages and activity levels recover from pain and injuries. We are happy to be Fremont County's foremost orthopaedic care practice.\n\n\n\nGet connected and stay connected in the Lander business community!
X-ALT-DESC;FMTTYPE=text/html:<p>You are invited to join the owners and staff of Fremont Orthopaedics at their new Western Wyoming Surgery Center) for an evening of connecting over refreshments and hors d&rsquo\;oeuvres. &#127867\; &#127863\; &#129347\; &#127865\;<br />\n<br />\n535 E. Main &ndash\; Open to the Public<br />\n<br />\nFremont Orthopaedics staff and physicians are important partners in the overall health of our communities. Our practice regularly supports local non-profit organizations and fitness events. In addition to financial sponsorship of local athletes and teams\, Fremont Orthopaedics provides medical support to the school districts and Central Wyoming College athletes.</p>\n\n<p>Our providers have broad training and experience in the treatment of patients of all ages who experience new\, acute injuries and chronic\, painful conditions. Our surgeons have also practiced in large university-based medical facilities and trauma centers. Patients are offered the most current and evidence-based treatment options\, customized to their lifestyle. Additionally\, each of our surgeons have advanced surgical fellowship training\, offering patients specialized expertise in certain injuries and areas of the body.<br />\nOur team is passionate about providing excellent\, personal care to help patients of all ages and activity levels recover from pain and injuries. We are happy to be Fremont County&#39\;s foremost orthopaedic care practice.<br />\n<br />\nGet connected and stay connected in the Lander business community!&nbsp\;</p>\n
LOCATION:
UID:e.1258.30958
SEQUENCE:3
DTSTAMP:20260419T210726Z
URL:http://info.landerchamber.org/events/details/business-after-hours-hosted-by-fremont-orthopaedics-30958
END:VEVENT

END:VCALENDAR
