BEGIN:VCALENDAR
VERSION:2.0
PRODID:-//ChamberMaster//Event Calendar 2.0//EN
METHOD:PUBLISH
X-PUBLISHED-TTL:P3D
REFRESH-INTERVAL:P3D
CALSCALE:GREGORIAN
BEGIN:VEVENT
DTSTART:20240412T010000Z
DTEND:20240412T020000Z
X-MICROSOFT-CDO-ALLDAYEVENT:FALSE
SUMMARY:Bootstrap Collaborative - What's a Successful New Business Game Plan?
DESCRIPTION:Join the Lander Young Professionals for a partnered event with CWC's Bootstrap Collaborative and learn what a successful new business game plan is. This is an excellent learning and networking opportunity for anyone thinking about starting a business or looking to learn more about managing their current business.\n\n\n\nLight refreshments will be served.\n\nThe Lander Young Professionals program is presented by Fremont Toyota Lander.
X-ALT-DESC;FMTTYPE=text/html:<p><span class="OYPEnA text-decoration-none text-strikethrough-none" style="color: rgb(0\, 0\, 0)\;">Join the Lander Young Professionals for a partnered event with CWC&#39\;s Bootstrap Collaborative and learn what a successful new business game plan is. This is an excellent learning and networking opportunity for anyone thinking about starting a business or looking to learn more about managing their current business.</span><br />\n<br />\nLight refreshments will be served.</p>\n\n<p>The Lander Young Professionals program is presented by <a href="https://www.fremonttoyotalander.com/" target="_blank">Fremont Toyota&nbsp\;Lander</a>.&nbsp\;</p>\n
LOCATION:Central Wyoming College Lander
UID:e.1258.31106
SEQUENCE:3
DTSTAMP:20260419T210446Z
URL:http://info.landerchamber.org/events/details/bootstrap-collaborative-what-s-a-successful-new-business-game-plan-31106
END:VEVENT

END:VCALENDAR
