BEGIN:VCALENDAR
VERSION:2.0
PRODID:-//ChamberMaster//Event Calendar 2.0//EN
METHOD:PUBLISH
X-PUBLISHED-TTL:P3D
REFRESH-INTERVAL:P3D
CALSCALE:GREGORIAN
BEGIN:VEVENT
DTSTART:20240221T010000Z
DTEND:20240221T020000Z
X-MICROSOFT-CDO-ALLDAYEVENT:FALSE
SUMMARY:Bootstrap Collaborative - How to Price Your Local Food Products (Lander)
DESCRIPTION:Let's Pencil it Out: How to Price Your Local Food Products\n\nDo you sell local food products? Are you making any money? At this workshop\, CWC's  Bootstrap Collaborative Director Mike Hoyt will guide participants through simple strategies  to quickly calculate their product pricing. He will also demonstrate how to adjust margins to  include the sales commissions of selling through EatWyoming.com\, Riverton's Fremont Local Market\, and Lander's Meadowlark Market and Kitchen. \n\nWhile the focus will be food products\, the pricing principles and concepts will be highly applicable to all goods and services pricing.\n\nRegister at cwclander.eventbrite.com
X-ALT-DESC;FMTTYPE=text/html:<p><span style="font-size:14px\;"><em><strong>Let&#39\;s Pencil it Out:&nbsp\;How to Price Your Local Food Products</strong></em></span></p>\n\n<p><span style="font-size:14px\;">Do you sell local food products? Are you making any money? At this&nbsp\;workshop\, CWC&#39\;s&nbsp\; Bootstrap Collaborative Director Mike Hoyt will guide&nbsp\;participants through simple strategies&nbsp\; to quickly calculate their product&nbsp\;pricing. He will also demonstrate how to adjust margins to&nbsp\; include the&nbsp\;sales commissions of selling through EatWyoming.com\, Riverton&#39\;s&nbsp\;Fremont Local Market\, and Lander&#39\;s Meadowlark Market and Kitchen.&nbsp\;</span></p>\n\n<p><span style="font-size:14px\;"><span style="color: rgb(34\, 34\, 34)\; font-family: Arial\, Helvetica\, sans-serif\;">While the focus will be food products\, the pricing principles and concepts&nbsp\;will be highly applicable to all goods and services&nbsp\;pricing.</span></span></p>\n\n<p><span style="font-size:14px\;">Register at&nbsp\;cwclander.eventbrite.com</span></p>\n
LOCATION:
UID:e.1258.31033
SEQUENCE:3
DTSTAMP:20260419T234707Z
URL:http://info.landerchamber.org/events/details/bootstrap-collaborative-how-to-price-your-local-food-products-lander-31033
END:VEVENT

END:VCALENDAR
