BEGIN:VCALENDAR
VERSION:2.0
PRODID:-//ChamberMaster//Event Calendar 2.0//EN
METHOD:PUBLISH
X-PUBLISHED-TTL:P3D
REFRESH-INTERVAL:P3D
CALSCALE:GREGORIAN
BEGIN:VEVENT
DTSTART:20240320T000000Z
DTEND:20240320T010000Z
X-MICROSOFT-CDO-ALLDAYEVENT:FALSE
SUMMARY:Bootstrap Collaborative - Business Taxes Workshop
DESCRIPTION:Business Taxes Workshop with ReddonKoehn & Associates\n\n\n\nLight refreshments will be served.\n\nVirtual Options available: https://cwc-edu.zoom.us/j/99754606598
X-ALT-DESC;FMTTYPE=text/html:<p><em><strong>Business Taxes Workshop&nbsp\;with ReddonKoehn &amp\; Associates</strong></em><br />\n<br />\nLight refreshments will be served.</p>\n\n<p>Virtual Options available:&nbsp\;<a href="https://cwc-edu.zoom.us/j/99754606598">https://cwc-edu.zoom.us/j/99754606598</a></p>\n
LOCATION:Innovation Center\, Brunton International
UID:e.1258.31034
SEQUENCE:3
DTSTAMP:20260419T221924Z
URL:http://info.landerchamber.org/events/details/bootstrap-collaborative-business-taxes-workshop-31034
END:VEVENT

END:VCALENDAR
