BEGIN:VCALENDAR
VERSION:2.0
PRODID:-//ChamberMaster//Event Calendar 2.0//EN
METHOD:PUBLISH
X-PUBLISHED-TTL:P3D
REFRESH-INTERVAL:P3D
CALSCALE:GREGORIAN
BEGIN:VEVENT
DTSTART;VALUE=DATE:20231111
DTEND;VALUE=DATE:20231112
TRANSP:TRANSPARENT
X-MICROSOFT-CDO-ALLDAYEVENT:TRUE
SUMMARY:Bomgaars Veterans Discount 2023
DESCRIPTION:In honor of Veterans Day\, all of those who have served or are currently serving in the U.S. Armed Forces will receive 17% OFF all regular priced in-stock items on Saturday\, November 11\, 2023.
X-ALT-DESC;FMTTYPE=text/html:In honor of Veterans Day\, all of those who have served or are currently serving in the U.S. Armed Forces will receive <strong>17% OFF</strong> all regular priced in-stock items on Saturday\, November 11\, 2023.
LOCATION:275 Grandview Drive Lander\, WY 82520-2907
UID:e.1258.30926
SEQUENCE:3
DTSTAMP:20260420T032856Z
URL:http://info.landerchamber.org/events/details/bomgaars-veterans-discount-2023-30926
END:VEVENT

END:VCALENDAR
