BEGIN:VCALENDAR
VERSION:2.0
PRODID:-//ChamberMaster//Event Calendar 2.0//EN
METHOD:PUBLISH
X-PUBLISHED-TTL:P3D
REFRESH-INTERVAL:P3D
CALSCALE:GREGORIAN
BEGIN:VEVENT
DTSTART;VALUE=DATE:20240427
DTEND;VALUE=DATE:20240428
TRANSP:TRANSPARENT
X-MICROSOFT-CDO-ALLDAYEVENT:TRUE
SUMMARY:Bomgaar's Loyalty Shopping Day
DESCRIPTION:This is a Great Day for our Loyalty Shoppers!\n\nStop by your local Bomgaar's at 275 Grandview Dr.\, Lander\, and check out the great deals!
X-ALT-DESC;FMTTYPE=text/html:This is a Great Day for our Loyalty Shoppers!<br />\nStop by your local Bomgaar&#39\;s at 275 Grandview Dr.\, Lander\, and check out the great deals!<br />\n&nbsp\;
LOCATION:Bomgaar's 275 Grandview Dr. Lander
UID:e.1258.31014
SEQUENCE:3
DTSTAMP:20260419T210948Z
URL:http://info.landerchamber.org/events/details/bomgaar-s-loyalty-shopping-day-31014
END:VEVENT

END:VCALENDAR
