BEGIN:VCALENDAR
VERSION:2.0
PRODID:-//ChamberMaster//Event Calendar 2.0//EN
METHOD:PUBLISH
X-PUBLISHED-TTL:P3D
REFRESH-INTERVAL:P3D
CALSCALE:GREGORIAN
BEGIN:VEVENT
DTSTART:20231112T020000Z
DTEND:20231112T050000Z
X-MICROSOFT-CDO-ALLDAYEVENT:FALSE
SUMMARY:"A Work in Progress\, The Art of Jerry Antolik" Opening
DESCRIPTION:An exhibit featuring the work of Jerry Antolik will be held on November 11 at the Lander Pioneer Museum. A reception with music\, appetizers and a brief talk by the artist will start at 7 p.m. Followed by a ribbon cutting for the exhibit (the gallery will open around 7:30). The public is invited to come and enjoy the evening for free. The art will then be on display until the fall of 2024.
X-ALT-DESC;FMTTYPE=text/html:An exhibit featuring the work of Jerry Antolik will be held on November 11 at the Lander Pioneer Museum. A reception with music\, appetizers and a brief talk by the artist will start at 7 p.m. Followed by a ribbon cutting for the exhibit (the gallery will open around 7:30). The public is invited to come and enjoy the evening for free. The art will then be on display until the fall of 2024.
LOCATION:Lander Pioneer Museum 1443 W. Main St.\, Lander
UID:e.1258.30930
SEQUENCE:3
DTSTAMP:20260420T032954Z
URL:http://info.landerchamber.org/events/details/a-work-in-progress-the-art-of-jerry-antolik-opening-30930
END:VEVENT

END:VCALENDAR
