BEGIN:VCALENDAR
VERSION:2.0
PRODID:-//ChamberMaster//Event Calendar 2.0//EN
METHOD:PUBLISH
X-PUBLISHED-TTL:P3D
REFRESH-INTERVAL:P3D
CALSCALE:GREGORIAN
BEGIN:VEVENT
DTSTART:20250614T130000Z
DTEND:20250614T180000Z
X-MICROSOFT-CDO-ALLDAYEVENT:FALSE
SUMMARY:2025 Lander Brewfest Golf with the Brewers 18-Hole Scramble
DESCRIPTION:Do you love beer? Do you love the brewers who brew the beer you love? AND do you love to  golf? \n\n\n\nWell then\, our Saturday morning Golf with the Brewers 18-Hole Scramble is your dream come true!\n\n\n\nLander Brewfest features more than 30 breweries\, distillers\, and cideries each year. Coming primarily from all over Wyoming\, brewers also travel from Colorado\, Utah\, Idaho\, Montana\, South Dakota\, and Oregon. Meet some brewers -- and their brews! -- while playing the game you love. Limited space is available\, so grab a friend or make a foursome. This is your chance to have more a personal\, specialized\, casual\, crowd-free experience with the brewers and their craft. Oh! -- and a guilt-free excuse to drink morning beer.  Prizes to include t-shirts\, Brewfest passes\, craft beer for the winning team\, and a Cobalt range finder! Participants must be 21 years old or older.
X-ALT-DESC;FMTTYPE=text/html:Do you love <i>beer</i>? Do you love the <i>brewers</i> who brew the beer you love?&nbsp\;<i>AND</i> do you love to&hellip\; <i><strong>golf</strong>?&nbsp\;</i><br />\n<br />\nWell then\, our Saturday morning <strong>Golf with the Brewers 18-Hole Scramble</strong> is your dream come true!<br />\n<br />\nLander Brewfest features more than 30 breweries\, distillers\, and cideries each year. Coming primarily from all over Wyoming\, brewers also travel from Colorado\, Utah\, Idaho\, Montana\, South Dakota\, and Oregon. Meet some brewers -- and their brews! -- while playing the game you love. Limited space is available\, so grab a friend or make a foursome. This is your chance to have more a personal\, specialized\, casual\, crowd-free experience&nbsp\;with the brewers and their craft. Oh! -- and a guilt-free excuse to drink morning beer.&nbsp\; Prizes to include t-shirts\, Brewfest passes\, craft beer for the winning team\, and a <em><strong>Cobalt range finder</strong>!</em> Participants must be 21 years old or older.
LOCATION:Lander Golf Course
UID:e.1258.32491
SEQUENCE:3
DTSTAMP:20260421T034759Z
URL:http://info.landerchamber.org/events/details/2025-lander-brewfest-golf-with-the-brewers-18-hole-scramble-32491
END:VEVENT

END:VCALENDAR
