BEGIN:VCALENDAR
VERSION:2.0
PRODID:-//ChamberMaster//Event Calendar 2.0//EN
METHOD:PUBLISH
X-PUBLISHED-TTL:P3D
REFRESH-INTERVAL:P3D
CALSCALE:GREGORIAN
BEGIN:VEVENT
DTSTART;VALUE=DATE:20241007
DTEND;VALUE=DATE:20241010
TRANSP:TRANSPARENT
X-MICROSOFT-CDO-ALLDAYEVENT:TRUE
SUMMARY:2024 Wyoming Working Together Conference - Rock Springs
DESCRIPTION:The Wyoming Working Together Conference is the Cowboy State's most robust annual economic development event. It's where Chambers of Commerce\, Main Streets\, economic development organizations and others who are invested in a prosperous future for Wyoming gather to learn\, network and find inspiration.\n\nRegister here.
X-ALT-DESC;FMTTYPE=text/html:<p><span style="font-size:14px\;"><span style="color: rgb(0\, 0\, 0)\; font-family: Raleway\, sans-serif\;">The Wyoming Working Together Conference is the Cowboy State&#39\;s most robust annual economic development event. It&#39\;s where Chambers of Commerce\, Main Streets\, economic development organizations and others who are invested in a prosperous future for Wyoming gather to learn\, network and find inspiration.</span></span></p>\n\n<p><span style="font-size:14px\;"><span style="color: rgb(0\, 0\, 0)\; font-family: Raleway\, sans-serif\;"><a href="https://lp.constantcontactpages.com/ev/reg/4dawrmd" target="_blank">Register here.</a></span></span></p>\n
LOCATION:Conference Location: Sweetwater Events Complex 3320 Yellowstone Road Rock Springs\, WY 82901 Phone: (307) 352-6789 Lodging: A room block is being held at the Holiday Inn Rock Springs. Holiday Inn Rock Springs 1675 Sunset Dr. Rock Springs\, WY 82901 Phone: 307-382-9200
UID:e.1258.31338
SEQUENCE:3
DTSTAMP:20260420T173515Z
URL:http://info.landerchamber.org/events/details/2024-wyoming-working-together-conference-rock-springs-31338
END:VEVENT

END:VCALENDAR
