BEGIN:VCALENDAR
VERSION:2.0
PRODID:-//ChamberMaster//Event Calendar 2.0//EN
METHOD:PUBLISH
X-PUBLISHED-TTL:P3D
REFRESH-INTERVAL:P3D
CALSCALE:GREGORIAN
BEGIN:VEVENT
DTSTART:20230920T190000Z
DTEND:20230922T190000Z
X-MICROSOFT-CDO-ALLDAYEVENT:FALSE
SUMMARY:2023 Wyoming Working Together Conference - Lander
DESCRIPTION:The Wyoming Working Together Conference is the Cowboy State's most robust annual economic development event. It's where Chambers of Commerce\, Main Streets\, economic development organizations and others who are invested in a prosperous future for Wyoming gather to learn\, network and find inspiration.\n\nTours of:\n\n\n	Eagle Bronze Foundry\n	Maven Outdoor Equipment Company\n	Alpine Science Institute of Central Wyoming College\n	Wyoming Life Resource Center\n	And more...\n\n\nConference Agenda here.\n\n\n\nRegister here.
X-ALT-DESC;FMTTYPE=text/html:<p><span style="font-size:14px\;"><span style="color: rgb(0\, 0\, 0)\; font-family: Raleway\, sans-serif\;">The Wyoming Working Together Conference is the Cowboy State&#39\;s most robust annual economic development event. It&#39\;s where Chambers of Commerce\, Main Streets\, economic development organizations and others who are invested in a prosperous future for Wyoming gather to learn\, network and find inspiration.</span></span></p>\n\n<p><strong><span style="font-size: 14px\;">Tours of:</span></strong></p>\n\n<ul>\n	<li><a href="http://www.eaglebronze.com/" target="_blank"><span style="font-size:14px\;">Eagle Bronze Foundry</span></a></li>\n	<li><a href="https://mavenbuilt.com/" target="_blank"><span style="font-size: 14px\;">Maven Outdoor Equipment Company</span></a></li>\n	<li><a href="https://www.cwc.edu/alpinescience/" target="_blank"><span style="font-size: 14px\;">Alpine Science Institute of&nbsp\;Central Wyoming College</span></a></li>\n	<li><a href="https://health.wyo.gov/behavioralhealth/wlrc/" target="_blank"><span style="font-size: 14px\;">Wyoming Life Resource Center</span></a></li>\n	<li><span style="font-size: 14px\;">And more...</span></li>\n</ul>\n\n<p><span style="font-size:14px\;"><span style="color: rgb(0\, 0\, 0)\; font-family: Raleway\, sans-serif\;"><a href="https://www.wyomingeda.org/media/userfiles/subsite_145/files/updated%20agenda%20with%20bio%20and%20pictures-1.pdf" target="_blank">Conference Agenda here.</a><br />\n<br />\n<a href="https://events.r20.constantcontact.com/register/eventReg?oeidk=a07ejswpf95685df7df&amp\;oseq=&amp\;c=&amp\;ch=" target="_blank">Register here.</a></span></span></p>\n
LOCATION:Lander Community & Convention Center and various locations in and around Lander
UID:e.1258.30742
SEQUENCE:3
DTSTAMP:20260420T062330Z
URL:http://info.landerchamber.org/events/details/2023-wyoming-working-together-conference-lander-30742
END:VEVENT

END:VCALENDAR
