BEGIN:VCALENDAR
VERSION:2.0
PRODID:-//ChamberMaster//Event Calendar 2.0//EN
METHOD:PUBLISH
X-PUBLISHED-TTL:P3D
REFRESH-INTERVAL:P3D
CALSCALE:GREGORIAN
BEGIN:VEVENT
DTSTART;VALUE=DATE:20190928
DTEND;VALUE=DATE:20190929
TRANSP:TRANSPARENT
X-MICROSOFT-CDO-ALLDAYEVENT:TRUE
SUMMARY:2019 National Public Lands Day
DESCRIPTION:2019 National Public Lands Day\n\n9am Saturday\, September 28\n\n\n\nTwo Project Options:\n\n	Lower Middle Fork "Falls Trail" - meet at Bruce's Bridge day use picnic area.\n	North Country Climber Trail - meet at Aspen Glades Parking Area (Wild Iris)\n\n\n\nUSFS Crews will provide all tools and technical instruction\n\nVolunteers should wear pants\, long sleeve shirt\, boots\, and leather work gloves\n\nVolunteers should bring day pack with layers\, food\, and water for the day.\n\n\n\nQuestions? Call Chris at USFS ofiice 307-335-2150
X-ALT-DESC;FMTTYPE=text/html:<strong><span style="font-size:20px\;">2019 National Public Lands Day</span><br />\n<span style="font-size:14px\;">9am Saturday\, September 28</span></strong><br />\n<br />\n<span style="font-size:14px\;"><u>Two Project Options:</u></span>\n<ul>\n	<li><span style="font-size:14px\;">Lower Middle Fork &quot\;Falls Trail&quot\; - meet at Bruce&#39\;s Bridge day use picnic area.</span></li>\n	<li><span style="font-size:14px\;">North Country Climber Trail - meet at Aspen Glades Parking Area (Wild Iris)</span></li>\n</ul>\n<br />\n<span style="font-size:14px\;"><u>USFS Crews will provide all tools and technical instruction</u><br />\n<em>Volunteers should wear pants\, long sleeve shirt\, boots\, and leather work gloves<br />\nVolunteers should bring day pack with layers\, food\, and water for the day</em>.</span><br />\n<br />\n<strong><span style="font-size:14px\;">Questions? Call Chris at USFS ofiice 307-335-2150</span></strong><br />\n&nbsp\;
LOCATION:Lower Middle Fork "Falls Trail" - meet at Bruce's Bridge day use picnic area. North Country Climber Trail - meet at Aspen Glades Parking Area (Wild Iris)
UID:e.1258.25220
SEQUENCE:3
DTSTAMP:20260425T005418Z
URL:http://info.landerchamber.org/events/details/2019-national-public-lands-day-25220
END:VEVENT

END:VCALENDAR
