BEGIN:VCALENDAR
VERSION:2.0
PRODID:-//ChamberMaster//Event Calendar 2.0//EN
METHOD:PUBLISH
X-PUBLISHED-TTL:P3D
REFRESH-INTERVAL:P3D
CALSCALE:GREGORIAN
BEGIN:VEVENT
DTSTART;VALUE=DATE:20230628
DTEND;VALUE=DATE:20230703
TRANSP:TRANSPARENT
X-MICROSOFT-CDO-ALLDAYEVENT:TRUE
SUMMARY:1838 Mountain Man Rendezvous
DESCRIPTION:1838 Mountain Man Rendezvous\n\nThe only rendezvous reenactment on the original rendezvous site. Walk in the same footsteps of traders from the past\, learn about fire starting with flint and steel\, dutch-oven cooking\, black powder shoots\, flint knapping\, teepee set-up\, trap setting and more.\n\nBegins June 28 and ends July 2. (307) 851-4457 or (307) 250-2793. End of E. Monroe Ave.
X-ALT-DESC;FMTTYPE=text/html:<p dir="ltr" style="line-height:1.38\;margin-top:5pt\;margin-bottom:0pt\;"><span id="docs-internal-guid-3fe06e36-7fff-07e0-6297-35b7dde83217"><span style="font-size: 9.5pt\; font-family: Arial\; color: rgb(0\, 0\, 0)\; font-variant-numeric: normal\; font-variant-east-asian: normal\; font-variant-alternates: normal\; vertical-align: baseline\; white-space-collapse: preserve\;"><strong>1838 Mountain Man Rendezvous</strong><br />\nThe only rendezvous reenactment on the original rendezvous site. Walk in the same footsteps of traders from the past\, learn about fire starting with flint and steel\, dutch-oven cooking\, black powder shoots\, flint knapping\, teepee set-up\, trap setting and more.<br />\nBegins June 28 and ends July 2. (307) 851-4457 or (307) 250-2793. End of E. Monroe Ave.</span></span></p>\n\n<div>&nbsp\;</div>\n
LOCATION:Rendezvous site\, end of East Monroe Ave.\, Riverton
UID:e.1258.30645
SEQUENCE:3
DTSTAMP:20260420T103041Z
URL:http://info.landerchamber.org/events/details/1838-mountain-man-rendezvous-30645
END:VEVENT

END:VCALENDAR
