BEGIN:VCALENDAR
VERSION:2.0
PRODID:-//ChamberMaster//Event Calendar 2.0//EN
METHOD:PUBLISH
X-PUBLISHED-TTL:P3D
REFRESH-INTERVAL:P3D
CALSCALE:GREGORIAN
BEGIN:VEVENT
DTSTART;VALUE=DATE:20230729
DTEND;VALUE=DATE:20230806
TRANSP:TRANSPARENT
X-MICROSOFT-CDO-ALLDAYEVENT:TRUE
SUMMARY:110th annual Fremont County Fair and Rodeo
DESCRIPTION:110th Annual Fremont County Fair and Rodeo\n\nThe Fremont County Fair and Rodeo features daily exhibits\, contests and shows. Fremont County Fair Parade Saturday\, July 29 at 10 a.m. Experience the ranch rodeo\, carnival nights\, bull riding\, craft and vendor trade show\, live music and more. Various ticket prices.\n\n(307) 856-6611. 1010 Fairground Rd.\n\nwww.fremontcountyfair.org
X-ALT-DESC;FMTTYPE=text/html:<p dir="ltr" style="line-height:1.38\;margin-top:5pt\;margin-bottom:0pt\;"><span id="docs-internal-guid-dc13dc21-7fff-f844-8516-70a37e3b2a8c"><span style="font-size: 9.5pt\; font-family: Arial\; color: rgb(0\, 0\, 0)\; background-color: transparent\; font-variant-numeric: normal\; font-variant-east-asian: normal\; font-variant-alternates: normal\; vertical-align: baseline\; white-space-collapse: preserve\;"><strong>110th Annual Fremont County Fair and Rodeo</strong><br />\nThe Fremont County Fair and Rodeo features daily exhibits\, contests and shows. Fremont County Fair Parade Saturday\, July 29 at 10 a.m. Experience the ranch rodeo\, carnival nights\, bull riding\, craft and vendor trade show\, live music and more. Various ticket prices.<br />\n(307) 856-6611. 1010 Fairground Rd.</span><br />\n<a href="https://www.fremontcountyfair.org/" style="text-decoration-line: none\;"><span style="font-size: 9.5pt\; font-family: Arial\; color: rgb(17\, 85\, 204)\; background-color: transparent\; font-style: italic\; font-variant-numeric: normal\; font-variant-east-asian: normal\; font-variant-alternates: normal\; text-decoration-line: underline\; text-decoration-skip-ink: none\; vertical-align: baseline\; white-space-collapse: preserve\;">www.fremontcountyfair.org</span></a></span></p>\n\n<div>&nbsp\;</div>\n
LOCATION:Fremont County Fairgrounds\, Riverton
UID:e.1258.30640
SEQUENCE:3
DTSTAMP:20260420T091734Z
URL:http://info.landerchamber.org/events/details/110th-annual-fremont-county-fair-and-rodeo-30640
END:VEVENT

END:VCALENDAR
